BEGIN:VCALENDAR
VERSION:2.0
PRODID:-//CIM Alto Tâmega e Barroso - ECPv6.8.2.1//NONSGML v1.0//EN
CALSCALE:GREGORIAN
METHOD:PUBLISH
X-ORIGINAL-URL:https://cimat.pt
X-WR-CALDESC:Events for CIM Alto Tâmega e Barroso
REFRESH-INTERVAL;VALUE=DURATION:PT1H
X-Robots-Tag:noindex
X-PUBLISHED-TTL:PT1H
BEGIN:VTIMEZONE
TZID:UTC
BEGIN:STANDARD
TZOFFSETFROM:+0000
TZOFFSETTO:+0000
TZNAME:UTC
DTSTART:20230101T000000
END:STANDARD
END:VTIMEZONE
BEGIN:VEVENT
DTSTART;VALUE=DATE:20230306
DTEND;VALUE=DATE:20230319
DTSTAMP:20260421T045604
CREATED:20230305T220419Z
LAST-MODIFIED:20230305T220419Z
UID:16340-1678060800-1679183999@cimat.pt
SUMMARY:Posto de Turismo do Alto Tâmega e Barroso acolhe exposição que exalta o centenário do Museu da Região Flaviense
DESCRIPTION:De 6 a 18 de março quem visitar o Posto de Turismo do Alto Tâmega e Barroso (PTAT) poderá viajar no tempo com a exposição “100 anos de Museu numa Cidade Bimilenar”. A entrada é gratuita.  \n  \nNesta mostra o visitante poderá reviver histórias e momentos que ocorreram no concelho de Chaves\, desde a pré-história ao século XX\, viajando no tempo através de esculturas\, epígrafes\, entre outras peças arqueológicas que\, segundo o município de Chaves\, são “inéditas e desconhecidas\, de cronologia variada\, provenientes das escavações arqueológicas das últimas três décadas no concelho\, que mostram a ocupação permanente na região”. \nEntre os dias 6 e 18 de março viaje pela história do concelho flaviense no PTAT\, sito na Alameda do Tabolado\, em Chaves.
URL:https://cimat.pt/evento/posto-de-turismo-do-alto-tamega-e-barroso-acolhe-exposicao-que-exalta-o-centenario-do-museu-da-regiao-flaviense/
LOCATION:Posto de Turismo do Alto Tâmega e Barroso\, Alameda Tabolado\, Chaves\, Vila Real\, 5400-239\, Portugal
ATTACH;FMTTYPE=image/jpeg:https://cimat.pt/wp-content/uploads/2023/03/Mostra-Centenário-Museu_PTAT-scaled.jpg
ORGANIZER;CN="CIMAT - Comunidade Intermunicipal do Alto T%C3%A2mega e Barroso":MAILTO:geral@cimat.pt
END:VEVENT
END:VCALENDAR