BEGIN:VCALENDAR
VERSION:2.0
PRODID:-//CIM Alto Tâmega e Barroso - ECPv6.8.2.1//NONSGML v1.0//EN
CALSCALE:GREGORIAN
METHOD:PUBLISH
X-ORIGINAL-URL:https://cimat.pt
X-WR-CALDESC:Events for CIM Alto Tâmega e Barroso
REFRESH-INTERVAL;VALUE=DURATION:PT1H
X-Robots-Tag:noindex
X-PUBLISHED-TTL:PT1H
BEGIN:VTIMEZONE
TZID:UTC
BEGIN:STANDARD
TZOFFSETFROM:+0000
TZOFFSETTO:+0000
TZNAME:UTC
DTSTART:20230101T000000
END:STANDARD
END:VTIMEZONE
BEGIN:VEVENT
DTSTART;TZID=UTC:20230213T093000
DTEND;TZID=UTC:20230213T123000
DTSTAMP:20260425T195154
CREATED:20230206T075030Z
LAST-MODIFIED:20230206T075030Z
UID:16177-1676280600-1676291400@cimat.pt
SUMMARY:Conferência | Os Fundos Europeus Estruturais e de Investimento no Alto Tâmega e Barroso
DESCRIPTION:
URL:https://cimat.pt/evento/conferencia-os-fundos-europeus-estruturais-e-de-investimento-no-alto-tamega-e-barroso/
LOCATION:Salão Nobre da Câmara Municipal\, BOTICAS\, Praça do Município\, Boticas\, Vila Real\, 5460-304\, Portugal
ATTACH;FMTTYPE=image/png:https://cimat.pt/wp-content/uploads/2023/02/Os-FEEI-no-Alto-Tâmega-e-Barroso-site-e-redes-sociais.png
ORGANIZER;CN="CIMAT - Comunidade Intermunicipal do Alto T%C3%A2mega e Barroso":MAILTO:geral@cimat.pt
END:VEVENT
END:VCALENDAR